BEGIN:VCALENDAR
VERSION:2.0
PRODID:-//Potatoes New Zealand - ECPv6.15.20//NONSGML v1.0//EN
CALSCALE:GREGORIAN
METHOD:PUBLISH
X-ORIGINAL-URL:https://potatoesnz.co.nz
X-WR-CALDESC:Events for Potatoes New Zealand
REFRESH-INTERVAL;VALUE=DURATION:PT1H
X-Robots-Tag:noindex
X-PUBLISHED-TTL:PT1H
BEGIN:VTIMEZONE
TZID:Pacific/Auckland
BEGIN:STANDARD
TZOFFSETFROM:+1300
TZOFFSETTO:+1200
TZNAME:NZST
DTSTART:20190406T140000
END:STANDARD
BEGIN:DAYLIGHT
TZOFFSETFROM:+1200
TZOFFSETTO:+1300
TZNAME:NZDT
DTSTART:20190928T140000
END:DAYLIGHT
BEGIN:STANDARD
TZOFFSETFROM:+1300
TZOFFSETTO:+1200
TZNAME:NZST
DTSTART:20200404T140000
END:STANDARD
BEGIN:DAYLIGHT
TZOFFSETFROM:+1200
TZOFFSETTO:+1300
TZNAME:NZDT
DTSTART:20200926T140000
END:DAYLIGHT
BEGIN:STANDARD
TZOFFSETFROM:+1300
TZOFFSETTO:+1200
TZNAME:NZST
DTSTART:20210403T140000
END:STANDARD
BEGIN:DAYLIGHT
TZOFFSETFROM:+1200
TZOFFSETTO:+1300
TZNAME:NZDT
DTSTART:20210925T140000
END:DAYLIGHT
END:VTIMEZONE
BEGIN:VEVENT
DTSTART;TZID=Pacific/Auckland:20200331T160000
DTEND;TZID=Pacific/Auckland:20200331T180000
DTSTAMP:20260424T010818
CREATED:20200226T005733Z
LAST-MODIFIED:20200318T205839Z
UID:10000407-1585670400-1585677600@potatoesnz.co.nz
SUMMARY:NZGAP FEP workshop Timaru CANCELLED
DESCRIPTION:CONTENT: Nutrient management\, water management\, biodiversity and mahinga kai \nRead the details in this PDFHortNZ Farm Environment Plan Workshops – Canterbury March 2020
URL:https://potatoesnz.co.nz/events/nzgap-fep-workshop-timaru-2/
LOCATION:Southern Trust Events Centre\, Aorangi Park\, Morgans Road\, Timaru\, 7910\, New Zealand
ORGANIZER;CN="Ailsa Robertson":MAILTO:ailsa.robertson@hortnz.co.nz
END:VEVENT
END:VCALENDAR