BEGIN:VCALENDAR
VERSION:2.0
PRODID:-//Potatoes New Zealand - ECPv6.15.20//NONSGML v1.0//EN
CALSCALE:GREGORIAN
METHOD:PUBLISH
X-WR-CALNAME:Potatoes New Zealand
X-ORIGINAL-URL:https://potatoesnz.co.nz
X-WR-CALDESC:Events for Potatoes New Zealand
REFRESH-INTERVAL;VALUE=DURATION:PT1H
X-Robots-Tag:noindex
X-PUBLISHED-TTL:PT1H
BEGIN:VTIMEZONE
TZID:Pacific/Auckland
BEGIN:STANDARD
TZOFFSETFROM:+1300
TZOFFSETTO:+1200
TZNAME:NZST
DTSTART:20230401T140000
END:STANDARD
BEGIN:DAYLIGHT
TZOFFSETFROM:+1200
TZOFFSETTO:+1300
TZNAME:NZDT
DTSTART:20230923T140000
END:DAYLIGHT
BEGIN:STANDARD
TZOFFSETFROM:+1300
TZOFFSETTO:+1200
TZNAME:NZST
DTSTART:20240406T140000
END:STANDARD
BEGIN:DAYLIGHT
TZOFFSETFROM:+1200
TZOFFSETTO:+1300
TZNAME:NZDT
DTSTART:20240928T140000
END:DAYLIGHT
BEGIN:STANDARD
TZOFFSETFROM:+1300
TZOFFSETTO:+1200
TZNAME:NZST
DTSTART:20250405T140000
END:STANDARD
BEGIN:DAYLIGHT
TZOFFSETFROM:+1200
TZOFFSETTO:+1300
TZNAME:NZDT
DTSTART:20250927T140000
END:DAYLIGHT
END:VTIMEZONE
BEGIN:VEVENT
DTSTART;TZID=Pacific/Auckland:20240623T080000
DTEND;TZID=Pacific/Auckland:20240626T170000
DTSTAMP:20260424T183643
CREATED:20231221T020959Z
LAST-MODIFIED:20240407T225824Z
UID:10000426-1719129600-1719421200@potatoesnz.co.nz
SUMMARY:12th World Potato Congress
DESCRIPTION:In 2024\, Australia will host the 12th World Potato Congress in Adelaide from 23-26 June\, marking a pivotal moment for the global potato industry. \n\n\n\nBeyond the opportunity to showcase the excellence of the potato sector on the world stage\, this congress aims to catapult potatoes into the spotlight as a compelling\, nutritional and health-conscious food choice\, both domestically and internationally. \n\n\n\n\nEarly Bird Registrations available.\n\n\n\nAccommodation information and prices on the World Potato Congress website when registering.\n\n\n\nTours available following the conference.\n\n\n\nPrices available upon Registration.\n\n\n\n\nRegister Online\n\n\n\n\n\nOrganiser\n\n\n\n\n\nVenue
URL:https://potatoesnz.co.nz/events/12th-world-potato-congress/
LOCATION:Adelaide Convention Centre\, North Terrace\, Adelaide\, SA\, 5000\, Australia
ATTACH;FMTTYPE=image/jpeg:https://potatoesnz.co.nz/wp-content/uploads/2023/12/wpc-2024-logos_4.jpg
END:VEVENT
END:VCALENDAR