BEGIN:VCALENDAR
VERSION:2.0
PRODID:-//Potatoes New Zealand - ECPv6.15.20//NONSGML v1.0//EN
CALSCALE:GREGORIAN
METHOD:PUBLISH
X-ORIGINAL-URL:https://potatoesnz.co.nz
X-WR-CALDESC:Events for Potatoes New Zealand
REFRESH-INTERVAL;VALUE=DURATION:PT1H
X-Robots-Tag:noindex
X-PUBLISHED-TTL:PT1H
BEGIN:VTIMEZONE
TZID:Pacific/Auckland
BEGIN:STANDARD
TZOFFSETFROM:+1300
TZOFFSETTO:+1200
TZNAME:NZST
DTSTART:20240406T140000
END:STANDARD
BEGIN:DAYLIGHT
TZOFFSETFROM:+1200
TZOFFSETTO:+1300
TZNAME:NZDT
DTSTART:20240928T140000
END:DAYLIGHT
BEGIN:STANDARD
TZOFFSETFROM:+1300
TZOFFSETTO:+1200
TZNAME:NZST
DTSTART:20250405T140000
END:STANDARD
BEGIN:DAYLIGHT
TZOFFSETFROM:+1200
TZOFFSETTO:+1300
TZNAME:NZDT
DTSTART:20250927T140000
END:DAYLIGHT
BEGIN:STANDARD
TZOFFSETFROM:+1300
TZOFFSETTO:+1200
TZNAME:NZST
DTSTART:20260404T140000
END:STANDARD
BEGIN:DAYLIGHT
TZOFFSETFROM:+1200
TZOFFSETTO:+1300
TZNAME:NZDT
DTSTART:20260926T140000
END:DAYLIGHT
END:VTIMEZONE
BEGIN:VEVENT
DTSTART;TZID=Pacific/Auckland:20251112T140000
DTEND;TZID=Pacific/Auckland:20251112T143000
DTSTAMP:20260423T080023
CREATED:20251111T001445Z
LAST-MODIFIED:20251111T001454Z
UID:10000586-1762956000-1762957800@potatoesnz.co.nz
SUMMARY:WEBINAR: 2025 Fundamental Guidelines for Fresh Produce Food Safety - Launch
DESCRIPTION:Join the Fresh Produce Safety Centre (FPSC) for the official launch of the 2025 Fundamental Guidelines for Fresh Produce Food Safety — the industry’s trusted resource for managing food safety risks across the fresh produce supply chain. \n\n\n\nThe refreshed Fundamental Guidelines bring together the latest science\, good practice and regulatory insights to support the ongoing safety and integrity of fresh produce from production to post-harvest handling. Developed through extensive research and industry consultation\, the 2025 edition is designed for every business seeking to strengthen food safety culture\, protect consumers\, and meet market and regulatory expectations. \n\n\n\nIn this webinar\, you’ll get an exclusive look at what’s new in Version 5\, including: \n\n\n\n\nNew chapters on Managing Critical Incidents and Recalls and Food Safety Culture\n\n\n\nExpanded appendices on Food Safety Regulation and Assurance Programmes and Faecal Indicator Bacteria\n\n\n\nUpdated guidance on water quality criteria and microbial testing protocols\n\n\n\nA refreshed structure\, improved usability\, and new visuals to make navigation easier\n\n\n\nThe all-new Quick Guides for Fresh Produce Food Safety – practical tools to help growers and teams apply good food safety practices every day\n\n\n\n\nWhether you’re a grower\, packer\, supplier\, auditor or part of the broader supply chain\, this session will help you understand how to use the new guidance and where to find the key updates that matter most to your operations. \n\n\n\nBe part of this important conversation and ensure your business is up to date with the latest in fresh produce food safety.
URL:https://potatoesnz.co.nz/events/webinar-2025-fundamental-guidelines-for-fresh-produce-food-safety-launch/
ATTACH;FMTTYPE=image/jpeg:https://potatoesnz.co.nz/wp-content/uploads/2025/11/Screenshot-2025-11-11-125833-e1762820062443.jpg
END:VEVENT
END:VCALENDAR