BEGIN:VCALENDAR
VERSION:2.0
PRODID:-//Potatoes New Zealand - ECPv6.15.20//NONSGML v1.0//EN
CALSCALE:GREGORIAN
METHOD:PUBLISH
X-ORIGINAL-URL:https://potatoesnz.co.nz
X-WR-CALDESC:Events for Potatoes New Zealand
REFRESH-INTERVAL;VALUE=DURATION:PT1H
X-Robots-Tag:noindex
X-PUBLISHED-TTL:PT1H
BEGIN:VTIMEZONE
TZID:Pacific/Auckland
BEGIN:STANDARD
TZOFFSETFROM:+1300
TZOFFSETTO:+1200
TZNAME:NZST
DTSTART:20250405T140000
END:STANDARD
BEGIN:DAYLIGHT
TZOFFSETFROM:+1200
TZOFFSETTO:+1300
TZNAME:NZDT
DTSTART:20250927T140000
END:DAYLIGHT
BEGIN:STANDARD
TZOFFSETFROM:+1300
TZOFFSETTO:+1200
TZNAME:NZST
DTSTART:20260404T140000
END:STANDARD
BEGIN:DAYLIGHT
TZOFFSETFROM:+1200
TZOFFSETTO:+1300
TZNAME:NZDT
DTSTART:20260926T140000
END:DAYLIGHT
BEGIN:STANDARD
TZOFFSETFROM:+1300
TZOFFSETTO:+1200
TZNAME:NZST
DTSTART:20270403T140000
END:STANDARD
BEGIN:DAYLIGHT
TZOFFSETFROM:+1200
TZOFFSETTO:+1300
TZNAME:NZDT
DTSTART:20270925T140000
END:DAYLIGHT
END:VTIMEZONE
BEGIN:VEVENT
DTSTART;TZID=Pacific/Auckland:20260423T080000
DTEND;TZID=Pacific/Auckland:20260423T170000
DTSTAMP:20260421T230331
CREATED:20251014T201140Z
LAST-MODIFIED:20260419T221548Z
UID:10000578-1776931200-1776963600@potatoesnz.co.nz
SUMMARY:Potatoes New Zealand Board Meeting
DESCRIPTION:Potatoes New Zealand Board members are committed to developing and driving the potato industry in New Zealand. They regularly meet to progress the strategic direction for the membership and best practices throughout industry.
URL:https://potatoesnz.co.nz/events/potatoes-new-zealand-board-meeting-7/
ATTACH;FMTTYPE=image/jpeg:https://potatoesnz.co.nz/wp-content/uploads/2024/12/iStock-2148854866.jpg
END:VEVENT
BEGIN:VEVENT
DTSTART;TZID=Pacific/Auckland:20260423T160000
DTEND;TZID=Pacific/Auckland:20260423T210000
DTSTAMP:20260421T230331
CREATED:20251202T234646Z
LAST-MODIFIED:20251202T234702Z
UID:10000591-1776960000-1776978000@potatoesnz.co.nz
SUMMARY:Vegetable Research Roadshow - Hawke's Bay
DESCRIPTION:The Vegetable Research Roadshow welcomes you to come hear the latest research results from the vegetable industry.
URL:https://potatoesnz.co.nz/events/vegetable-research-roadshow-hawkes-bay/
LOCATION:Havelock North Function Centre\, 30 Te Mata Road\, Havelock North\, 4130\, New Zealand
ATTACH;FMTTYPE=image/jpeg:https://potatoesnz.co.nz/wp-content/uploads/2025/12/iStock-1427666202.jpg
END:VEVENT
BEGIN:VEVENT
DTSTART;TZID=Pacific/Auckland:20260423T173000
DTEND;TZID=Pacific/Auckland:20260423T203000
DTSTAMP:20260421T230331
CREATED:20260415T210605Z
LAST-MODIFIED:20260415T210921Z
UID:10000610-1776965400-1776976200@potatoesnz.co.nz
SUMMARY:Meet the Board
DESCRIPTION:Got something on your mind about the industry? An opportunity you think we should be exploring? Or just keen to hear what’s happening across Potatoes New Zealand? \n\n\n\nJoin the Potatoes New Zealand Board for an informal catch up with fellow Pukekohe growers. This is your chance to have a chat\, raise ideas\, ask questions\, and hear what Potatoes New Zealand is working on for growers. \n\n\n\nNo presentations. No pressure. Just good conversation with people who care about the future of the potato industry. \n\n\n\n\n\n\n\n\n\n\n\n\n\nMeet the Board – RSVP Now\n\n\n\nPlease complete this form to confirm your attendance: \n\n\n\n\n\n\nMeet the Board – RSVP\n\n\n\n\n\n\n\n\n	Name\n		*\n	\n	\n	\n	\n\n\n	Company\n		*\n	\n	\n	\n	\n\n\n	Email\n		*\n	\n	\n	\n	\n\n\n	\nSubmit\n\n\n\n\n\n	\n			\n			\n				If you are human\, leave this field blank.
URL:https://potatoesnz.co.nz/events/meet-the-board/
LOCATION:Franklin Club\, 7 East Street\, Pukekohe\, 2120\, New Zealand
ATTACH;FMTTYPE=image/jpeg:https://potatoesnz.co.nz/wp-content/uploads/2025/02/handshake.jpg
END:VEVENT
END:VCALENDAR