BEGIN:VCALENDAR
VERSION:2.0
PRODID:-//Potatoes New Zealand - ECPv6.15.20//NONSGML v1.0//EN
CALSCALE:GREGORIAN
METHOD:PUBLISH
X-WR-CALNAME:Potatoes New Zealand
X-ORIGINAL-URL:https://potatoesnz.co.nz
X-WR-CALDESC:Events for Potatoes New Zealand
REFRESH-INTERVAL;VALUE=DURATION:PT1H
X-Robots-Tag:noindex
X-PUBLISHED-TTL:PT1H
BEGIN:VTIMEZONE
TZID:Pacific/Auckland
BEGIN:STANDARD
TZOFFSETFROM:+1300
TZOFFSETTO:+1200
TZNAME:NZST
DTSTART:20250405T140000
END:STANDARD
BEGIN:DAYLIGHT
TZOFFSETFROM:+1200
TZOFFSETTO:+1300
TZNAME:NZDT
DTSTART:20250927T140000
END:DAYLIGHT
BEGIN:STANDARD
TZOFFSETFROM:+1300
TZOFFSETTO:+1200
TZNAME:NZST
DTSTART:20260404T140000
END:STANDARD
BEGIN:DAYLIGHT
TZOFFSETFROM:+1200
TZOFFSETTO:+1300
TZNAME:NZDT
DTSTART:20260926T140000
END:DAYLIGHT
BEGIN:STANDARD
TZOFFSETFROM:+1300
TZOFFSETTO:+1200
TZNAME:NZST
DTSTART:20270403T140000
END:STANDARD
BEGIN:DAYLIGHT
TZOFFSETFROM:+1200
TZOFFSETTO:+1300
TZNAME:NZDT
DTSTART:20270925T140000
END:DAYLIGHT
END:VTIMEZONE
BEGIN:VEVENT
DTSTART;TZID=Pacific/Auckland:20260623T080000
DTEND;TZID=Pacific/Auckland:20260624T170000
DTSTAMP:20260420T100545
CREATED:20260417T222618Z
LAST-MODIFIED:20260417T222623Z
UID:10000639-1782201600-1782320400@potatoesnz.co.nz
SUMMARY:Primary Industries New Zealand Summit and Awards
DESCRIPTION:The Primary Industries New Zealand Summit and Awards continues to bring together the very best leaders from across the spectrum of New Zealand farming and primary sector business. This year the Summit will focus on understanding and seizing the opportunities of the future\, with the event providing high level insights\, analysis and debate around the key themes that will decide how effectively we meet the future challenges for the sector.
URL:https://potatoesnz.co.nz/events/primary-industries-new-zealand-summit-and-awards/
LOCATION:Cordis Auckland\, 83 Symonds Street\, Auckland\, 1010\, New Zealand
ATTACH;FMTTYPE=image/jpeg:https://potatoesnz.co.nz/wp-content/uploads/2025/01/PINZ-social-tile-Awards-Now-Open.jpg
END:VEVENT
END:VCALENDAR