BEGIN:VCALENDAR
VERSION:2.0
PRODID:-//Potatoes New Zealand - ECPv6.15.20//NONSGML v1.0//EN
CALSCALE:GREGORIAN
METHOD:PUBLISH
X-WR-CALNAME:Potatoes New Zealand
X-ORIGINAL-URL:https://potatoesnz.co.nz
X-WR-CALDESC:Events for Potatoes New Zealand
REFRESH-INTERVAL;VALUE=DURATION:PT1H
X-Robots-Tag:noindex
X-PUBLISHED-TTL:PT1H
BEGIN:VTIMEZONE
TZID:Pacific/Auckland
BEGIN:STANDARD
TZOFFSETFROM:+1300
TZOFFSETTO:+1200
TZNAME:NZST
DTSTART:20180331T140000
END:STANDARD
BEGIN:DAYLIGHT
TZOFFSETFROM:+1200
TZOFFSETTO:+1300
TZNAME:NZDT
DTSTART:20180929T140000
END:DAYLIGHT
BEGIN:STANDARD
TZOFFSETFROM:+1300
TZOFFSETTO:+1200
TZNAME:NZST
DTSTART:20190406T140000
END:STANDARD
BEGIN:DAYLIGHT
TZOFFSETFROM:+1200
TZOFFSETTO:+1300
TZNAME:NZDT
DTSTART:20190928T140000
END:DAYLIGHT
BEGIN:STANDARD
TZOFFSETFROM:+1300
TZOFFSETTO:+1200
TZNAME:NZST
DTSTART:20200404T140000
END:STANDARD
BEGIN:DAYLIGHT
TZOFFSETFROM:+1200
TZOFFSETTO:+1300
TZNAME:NZDT
DTSTART:20200926T140000
END:DAYLIGHT
END:VTIMEZONE
BEGIN:VEVENT
DTSTART;TZID=Pacific/Auckland:20190412T080000
DTEND;TZID=Pacific/Auckland:20190412T170000
DTSTAMP:20260422T093027
CREATED:20190126T005426Z
LAST-MODIFIED:20190126T005426Z
UID:10000338-1555056000-1555088400@potatoesnz.co.nz
SUMMARY:PNZ Board Meeting - Auckland
DESCRIPTION:
URL:https://potatoesnz.co.nz/events/pnz-board-meeting-auckland/
END:VEVENT
BEGIN:VEVENT
DTSTART;TZID=Pacific/Auckland:20190412T080000
DTEND;TZID=Pacific/Auckland:20190412T170000
DTSTAMP:20260422T093027
CREATED:20190126T005426Z
LAST-MODIFIED:20190126T005426Z
UID:10000626-1555056000-1555088400@potatoesnz.co.nz
SUMMARY:PNZ Board Meeting - Auckland
DESCRIPTION:
URL:https://potatoesnz.co.nz/events/pnz-board-meeting-auckland-2/
END:VEVENT
BEGIN:VEVENT
DTSTART;TZID=Pacific/Auckland:20190506T080000
DTEND;TZID=Pacific/Auckland:20190506T170000
DTSTAMP:20260422T093027
CREATED:20190126T005503Z
LAST-MODIFIED:20190126T005503Z
UID:10000337-1557129600-1557162000@potatoesnz.co.nz
SUMMARY:May Market Day NZGFW - Auckland
DESCRIPTION:
URL:https://potatoesnz.co.nz/events/may-market-day-nzgfw-auckland/
END:VEVENT
BEGIN:VEVENT
DTSTART;TZID=Pacific/Auckland:20190506T080000
DTEND;TZID=Pacific/Auckland:20190506T170000
DTSTAMP:20260422T093027
CREATED:20190126T005503Z
LAST-MODIFIED:20190126T005503Z
UID:10000627-1557129600-1557162000@potatoesnz.co.nz
SUMMARY:May Market Day NZGFW - Auckland
DESCRIPTION:
URL:https://potatoesnz.co.nz/events/may-market-day-nzgfw-auckland-2/
END:VEVENT
BEGIN:VEVENT
DTSTART;TZID=Pacific/Auckland:20190509T103000
DTEND;TZID=Pacific/Auckland:20190509T140000
DTSTAMP:20260422T093027
CREATED:20190430T071344Z
LAST-MODIFIED:20190430T071344Z
UID:10000634-1557397800-1557410400@potatoesnz.co.nz
SUMMARY:Erosion & sediment control workshop
DESCRIPTION:View the erosion & sediment control workshop agenda here.
URL:https://potatoesnz.co.nz/events/erosion-sediment-control-workshop-2/
LOCATION:Pukekohe Indian Association Events Centre\, 57 Ward Street\, Pukekohe\, 2120\, New Zealand
GEO:-37.2102751;174.8919188
X-APPLE-STRUCTURED-LOCATION;VALUE=URI;X-ADDRESS=Pukekohe Indian Association Events Centre 57 Ward Street Pukekohe 2120 New Zealand;X-APPLE-RADIUS=500;X-TITLE=57 Ward Street:geo:174.8919188,-37.2102751
END:VEVENT
BEGIN:VEVENT
DTSTART;TZID=Pacific/Auckland:20190509T103000
DTEND;TZID=Pacific/Auckland:20190509T140000
DTSTAMP:20260422T093027
CREATED:20190430T071344Z
LAST-MODIFIED:20190430T071344Z
UID:10000271-1557397800-1557410400@potatoesnz.co.nz
SUMMARY:Erosion & sediment control workshop
DESCRIPTION:View the erosion & sediment control workshop agenda here.
URL:https://potatoesnz.co.nz/events/erosion-sediment-control-workshop/
LOCATION:Pukekohe Indian Association Events Centre\, 57 Ward Street\, Pukekohe\, 2120\, New Zealand
GEO:-37.2102751;174.8919188
X-APPLE-STRUCTURED-LOCATION;VALUE=URI;X-ADDRESS=Pukekohe Indian Association Events Centre 57 Ward Street Pukekohe 2120 New Zealand;X-APPLE-RADIUS=500;X-TITLE=57 Ward Street:geo:174.8919188,-37.2102751
END:VEVENT
BEGIN:VEVENT
DTSTART;TZID=Pacific/Auckland:20190624T080000
DTEND;TZID=Pacific/Auckland:20190626T170000
DTSTAMP:20260422T093027
CREATED:20190126T005614Z
LAST-MODIFIED:20190126T005614Z
UID:10000336-1561363200-1561568400@potatoesnz.co.nz
SUMMARY:Hort Connections - Melbourne
DESCRIPTION:
URL:https://potatoesnz.co.nz/events/hort-connections-melbourne/
END:VEVENT
BEGIN:VEVENT
DTSTART;TZID=Pacific/Auckland:20190624T080000
DTEND;TZID=Pacific/Auckland:20190626T170000
DTSTAMP:20260422T093027
CREATED:20190126T005614Z
LAST-MODIFIED:20190126T005614Z
UID:10000628-1561363200-1561568400@potatoesnz.co.nz
SUMMARY:Hort Connections - Melbourne
DESCRIPTION:
URL:https://potatoesnz.co.nz/events/hort-connections-melbourne-2/
END:VEVENT
BEGIN:VEVENT
DTSTART;TZID=Pacific/Auckland:20190628T080000
DTEND;TZID=Pacific/Auckland:20190628T170000
DTSTAMP:20260422T093027
CREATED:20190126T005643Z
LAST-MODIFIED:20190126T005643Z
UID:10000629-1561708800-1561741200@potatoesnz.co.nz
SUMMARY:PNZ Board Meeting - Ashburton
DESCRIPTION:
URL:https://potatoesnz.co.nz/events/pnz-board-meeting-ashburton-2/
END:VEVENT
BEGIN:VEVENT
DTSTART;TZID=Pacific/Auckland:20190628T080000
DTEND;TZID=Pacific/Auckland:20190628T170000
DTSTAMP:20260422T093027
CREATED:20190126T005643Z
LAST-MODIFIED:20190126T005643Z
UID:10000265-1561708800-1561741200@potatoesnz.co.nz
SUMMARY:PNZ Board Meeting - Ashburton
DESCRIPTION:
URL:https://potatoesnz.co.nz/events/pnz-board-meeting-ashburton/
END:VEVENT
END:VCALENDAR